BEGIN:VCALENDAR
VERSION:2.0
PRODID:-//Marketing Club Graz - ECPv4.6.18//NONSGML v1.0//EN
CALSCALE:GREGORIAN
METHOD:PUBLISH
X-WR-CALNAME:Marketing Club Graz
X-ORIGINAL-URL:http://marketing-club-graz.at
X-WR-CALDESC:Veranstaltungen für Marketing Club Graz
BEGIN:VEVENT
DTSTART;TZID=UTC+2:20260504T190000
DTEND;TZID=UTC+2:20260504T220000
DTSTAMP:20260419T192546
CREATED:20260410T090521Z
LAST-MODIFIED:20260417T081305Z
UID:8040-1777921200-1777932000@marketing-club-graz.at
SUMMARY:Steiermark uncovered: Das Geheimnis des steirischen Tourismus-Erfolgs
DESCRIPTION:Referent: Michael Feiertag\, Geschäftsführer\, Steirische Tourismusmarketing GmbH \nModeration: Gerhard F. Kroell\, Madison Marketing- und Werbeberatungs-GmbH \nTermin: Montag\, 4. Mai 2026\nZeit: 19.00 Uhr\nOrt: Schlossberghotel\, Kaiser-Franz-Josef-Kai 30\, 8010 Graz \n
URL:http://marketing-club-graz.at/veranstaltung/steiermark-uncovered-das-geheimnis-des-steirischen-tourismus-erfolgs/
END:VEVENT
END:VCALENDAR